BEGIN:VCALENDAR
VERSION:2.0
CALSCALE:GREGORIAN
METHOD:PUBLISH
PRODID:-//CSMusic.cz//Akce//EN
BEGIN:VEVENT
UID:akce_69b09d068222e5.74718698
DTSTAMP:20260310T233654
DTSTART:20250404T000000
DTEND:20250404T000000
SUMMARY:Traktor - Jungle tour 2025 - Liberec
LOCATION:, Liberec
DESCRIPTION:Traktor - Jungle tour 2025 - Liberec - , Liberec
END:VEVENT
END:VCALENDAR