BEGIN:VCALENDAR
VERSION:2.0
CALSCALE:GREGORIAN
METHOD:PUBLISH
PRODID:-//CSMusic.cz//Akce//EN
BEGIN:VEVENT
UID:akce_69b8a56e696977.95946413
DTSTAMP:20260317T015054
DTSTART:20250424T000000
DTEND:20250424T000000
SUMMARY:Xindl X + UDG - Zase spolu tour 2025 - Šumperk
LOCATION:KD, Šumperk
DESCRIPTION:Xindl X + UDG - Zase spolu tour 2025 - Šumperk - KD, Šumperk
END:VEVENT
END:VCALENDAR