BEGIN:VCALENDAR
VERSION:2.0
CALSCALE:GREGORIAN
METHOD:PUBLISH
PRODID:-//CSMusic.cz//Akce//EN
BEGIN:VEVENT
UID:akce_69e1ece35f65f8.02589484
DTSTAMP:20260417T101843
DTSTART:20250531T000000
DTEND:20250531T000000
SUMMARY:WACKEN METAL BATTLE CZECH REPUBLIC 2025 - Praha
LOCATION:Palác Akropolis, Praha
DESCRIPTION:WACKEN METAL BATTLE CZECH REPUBLIC 2025 - Praha - Palác Akropolis, Praha
END:VEVENT
END:VCALENDAR