BEGIN:VCALENDAR
VERSION:2.0
CALSCALE:GREGORIAN
METHOD:PUBLISH
PRODID:-//CSMusic.cz//Akce//EN
BEGIN:VEVENT
UID:akce_69e1edd82f0c50.04668849
DTSTAMP:20260417T102248
DTSTART:20250811T000000
DTEND:20250811T000000
SUMMARY:Paulie Garand - Praha
LOCATION:Vila Lanna, Praha
DESCRIPTION:Paulie Garand - Praha - Vila Lanna, Praha
END:VEVENT
END:VCALENDAR