BEGIN:VCALENDAR
VERSION:2.0
CALSCALE:GREGORIAN
METHOD:PUBLISH
PRODID:-//CSMusic.cz//Akce//EN
BEGIN:VEVENT
UID:akce_69e1f08a5ec525.35329039
DTSTAMP:20260417T103418
DTSTART:20250411T000000
DTEND:20250411T000000
SUMMARY:Když múzy mlčí - Tour - Česká Lípa
LOCATION:KD Krystal, Česká Lípa
DESCRIPTION:Když múzy mlčí - Tour - Česká Lípa - KD Krystal, Česká Lípa
END:VEVENT
END:VCALENDAR