BEGIN:VCALENDAR
VERSION:2.0
CALSCALE:GREGORIAN
METHOD:PUBLISH
PRODID:-//CSMusic.cz//Akce//EN
BEGIN:VEVENT
UID:akce_69e4ced01e2347.30868733
DTSTAMP:20260419T144712
DTSTART:20250215T000000
DTEND:20250215T000000
SUMMARY:Pam Rabbit - THE MISSING TOUR - Svitavy
LOCATION:Lidové divadlo, Svitavy
DESCRIPTION:Pam Rabbit - THE MISSING TOUR - Svitavy - Lidové divadlo, Svitavy
END:VEVENT
END:VCALENDAR