BEGIN:VCALENDAR
VERSION:2.0
CALSCALE:GREGORIAN
METHOD:PUBLISH
PRODID:-//CSMusic.cz//Akce//EN
BEGIN:VEVENT
UID:akce_69e9dba75af5a9.34943986
DTSTAMP:20260423T104319
DTSTART:20250510T000000
DTEND:20250510T000000
SUMMARY:Cold Cold Nights - Nový Bor
LOCATION:Vedlejší kolej, Nový Bor
DESCRIPTION:Cold Cold Nights - Nový Bor - Vedlejší kolej, Nový Bor
END:VEVENT
END:VCALENDAR