BEGIN:VCALENDAR
VERSION:2.0
CALSCALE:GREGORIAN
METHOD:PUBLISH
PRODID:-//CSMusic.cz//Akce//EN
BEGIN:VEVENT
UID:akce_69ecdcda70cd26.43966829
DTSTAMP:20260425T172514
DTSTART:20241010T000000
DTEND:20241010T000000
SUMMARY:Kabát  - Po čertech velký turné 2024 - Bratislava
LOCATION:, Bratislava
DESCRIPTION:Kabát  - Po čertech velký turné 2024 - Bratislava - , Bratislava
END:VEVENT
END:VCALENDAR